Workbook
Name huidig_jaar: Instellingen!$C$3

Sheet 1e kwartaal
E1: ="januari " -> januari | AJ1: ="februari "&huidig_jaar -> februari 2013 | BL1: ="maart "&huidig_jaar -> maart 2013
E2: Wk | G2: M | H2: D | I2: W | J2: D | K2: V | L2: Z | M2: Z | AJ2: Wk | AL2: M | AM2: D | AN2: W | AO2: D | AP2: V | AQ2: Z | AR2: Z | BL2: Wk | BN2: M | BO2: D | BP2: W | BQ2: D | BR2: V | BS2: Z | BT2: Z
E3: 1 | H3: 1 | I3: 2 | J3: 3 | K3: 4 | L3: 5 | M3: 6 | P3: 01-01 Nieuwjaarsdag | AJ3: 5 | AP3: 1 | AQ3: 2 | AR3: 3 | BL3: 9 | BR3: 1 | BS3: 2 | BT3: 3 | BW3: 31-03 1e paasdaag
E4: 2 | G4: 7 | H4: 8 | I4: 9 | J4: 10 | K4: 11 | L4: 12 | M4: 13 | AJ4: 6 | AL4: 4 | AM4: 5 | AN4: 6 | AO4: 7 | AP4: 8 | AQ4: 9 | AR4: 10 | BL4: 10 | BN4: 4 | BO4: 5 | BP4: 6 | BQ4: 7 | BR4: 8 | BS4: 9 | BT4: 10
A5: Easy Template | E5: 3 | G5: 14 | H5: 15 | I5: 16 | J5: 17 | K5: 18 | L5: 19 | M5: 20 | AJ5: 7 | AL5: 11 | AM5: 12 | AN5: 13 | AO5: 14 | AP5: 15 | AQ5: 16 | AR5: 17 | BL5: 11 | BN5: 11 | BO5: 12 | BP5: 13 | BQ5: 14 | BR5: 15 | BS5: 16 | BT5: 17
A6: ="Vakantieplanning 1e kwartaal " -> Vakantieplanning 1e kwartaal | E6: 4 | G6: 21 | H6: 22 | I6: 23 | J6: 24 | K6: 25 | L6: 26 | M6: 27 | AJ6: 8 | AL6: 18 | AM6: 19 | AN6: 20 | AO6: 21 | AP6: 22 | AQ6: 23 | AR6: 24 | BL6: 12 | BN6: 18 | BO6: 19 | BP6: 20 | BQ6: 21 | BR6: 22 | BS6: 23 | BT6: 24
E7: 5 | G7: 28 | H7: 29 | I7: 30 | J7: 31 | AJ7: 9 | AL7: 25 | AM7: 26 | AN7: 27 | AO7: 28 | BL7: 13 | BN7: 25 | BO7: 26 | BP7: 27 | BQ7: 28 | BR7: 29 | BS7: 30 | BT7: 31
E9: Januari | AJ9: Februari | BL9: Maart
A10: ="Vakantieplanner " -> Vakantieplanner | E10: Week 1 | K10: Week 2 | R10: Week 3 | Y10: Week 4 | AF10: Week 5 | AM10: Week 6 | AT10: Week 7 | BA10: Week 8 | BH10: Week 9 | BO10: Week 10 | BV10: Week 11 | CC10: Week 12 | CJ10: Wk. 13
E11: D | F11: W | G11: D | H11: V | I11: Z | J11: Z | K11: M | L11: D | M11: W | N11: D | O11: V | P11: Z | Q11: Z | R11: M | S11: D | T11: W | U11: D | V11: V | W11: Z | X11: Z | Y11: M | Z11: D | AA11: W | AB11: D | AC11: V | AD11: Z | AE11: Z | AF11: M | AG11: D | AH11: W | AI11: D | AJ11: V | AK11: Z | AL11: Z | AM11: M | AN11: D | AO11: W | AP11: D | AQ11: V | AR11: Z | AS11: Z | AT11: M | AU11: D | AV11: W | AW11: D | AX11: V | AY11: Z | AZ11: Z | BA11: M | BB11: D | BC11: W | BD11: D | BE11: V | BF11: Z | BG11: Z | BH11: M | BI11: D | BJ11: W | BK11: D | BL11: V | BM11: Z | BN11: Z | BO11: M | BP11: D | BQ11: W | BR11: D | BS11: V | BT11: Z | BU11: Z | BV11: M | BW11: D | BX11: W | BY11: D | BZ11: V | CA11: Z | CB11: Z | CC11: M | CD11: D | CE11: W | CF11: D | CG11: V | CH11: Z | CI11: Z | CJ11: M | CK11: D | CL11: W | CM11: D | CN11: V | CO11: Z | CP11: Z
A12: Werknemer | B12: nr. | C12: Vestiging | D12: Afdeling | E12: 1 | F12: 2 | G12: 3 | H12: 4 | I12: 5 | J12: 6 | K12: 7 | L12: 8 | M12: 9 | N12: 10 | O12: 11 | P12: 12 | Q12: 13 | R12: 14 | S12: 15 | T12: 16 | U12: 17 | V12: 18 | W12: 19 | X12: 20 | Y12: 21 | Z12: 22 | AA12: 23 | AB12: 24 | AC12: 25 | AD12: 26 | AE12: 27 | AF12: 28 | AG12: 29 | AH12: 30 | AI12: 31 | AJ12: 1 | AK12: 2 | AL12: 3 | AM12: 4 | AN12: 5 | AO12: 6 | AP12: 7 | AQ12: 8 | AR12: 9 | AS12: 10 | AT12: 11 | AU12: 12 | AV12: 13 | AW12: 14 | AX12: 15 | AY12: 16 | AZ12: 17 | BA12: 18 | BB12: 19 | BC12: 20 | BD12: 21 | BE12: 22 | BF12: 23 | BG12: 24 | BH12: 25 | BI12: 26 | BJ12: 27 | BK12: 28 | BL12: 1 | BM12: 2 | BN12: 3 | BO12: 4 | BP12: 5 | BQ12: 6 | BR12: 7 | BS12: 8 | BT12: 9 | BU12: 10 | BV12: 11 | BW12: 12 | BX12: 13 | BY12: 14 | BZ12: 15 | CA12: 16 | CB12: 17 | CC12: 18 | CD12: 19 | CE12: 20 | CF12: 21 | CG12: 22 | CH12: 23 | CI12: 24 | CJ12: 25 | CK12: 26 | CL12: 27 | CM12: 28 | CN12: 29 | CO12: 30 | CP12: 31
A13: Jan
A14: Piet
A15: Leo van Vliet
B45: Zondag of feestdag
A46: X | B46: Vrije dag

Sheet 2e kwartaal
E1: ="april "&huidig_jaar -> april 2013 | AI1: ="mei "&huidig_jaar -> mei 2013 | BN1: ="juni "&huidig_jaar -> juni 2013
E2: Wk | G2: M | H2: D | I2: W | J2: D | K2: V | L2: Z | M2: Z | AI2: Wk | AK2: M | AL2: D | AM2: W | AN2: D | AO2: V | AP2: Z | AQ2: Z | BN2: Wk | BP2: M | BQ2: D | BR2: W | BS2: D | BT2: V | BU2: Z | BV2: Z
E3: 14 | G3: 1 | H3: 2 | I3: 3 | J3: 4 | K3: 5 | L3: 6 | M3: 7 | P3: 01-04 2e paasdaag | AI3: 18 | AM3: 1 | AN3: 2 | AO3: 3 | AP3: 4 | AQ3: 5 | AT3: 09-05 Hemelvaart | BN3: 22 | BU3: 1 | BV3: 2
E4: 15 | G4: 8 | H4: 9 | I4: 10 | J4: 11 | K4: 12 | L4: 13 | M4: 14 | P4: 30-04 Koninginnedag | AI4: 19 | AK4: 6 | AL4: 7 | AM4: 8 | AN4: 9 | AO4: 10 | AP4: 11 | AQ4: 12 | AT4: 19-05 en 20-05 Pinksteren | BN4: 23 | BP4: 3 | BQ4: 4 | BR4: 5 | BS4: 6 | BT4: 7 | BU4: 8 | BV4: 9
A5: Easy Template | E5: 16 | G5: 15 | H5: 16 | I5: 17 | J5: 18 | K5: 19 | L5: 20 | M5: 21 | AI5: 20 | AK5: 13 | AL5: 14 | AM5: 15 | AN5: 16 | AO5: 17 | AP5: 18 | AQ5: 19 | BN5: 24 | BP5: 10 | BQ5: 11 | BR5: 12 | BS5: 13 | BT5: 14 | BU5: 15 | BV5: 16
A6: ="Vakantieplanning 2e kwartaal "&huidig_jaar -> Vakantieplanning 2e kwartaal 2013 | E6: 17 | G6: 22 | H6: 23 | I6: 24 | J6: 25 | K6: 26 | L6: 27 | M6: 28 | AI6: 21 | AK6: 20 | AL6: 21 | AM6: 22 | AN6: 23 | AO6: 24 | AP6: 25 | AQ6: 26 | BN6: 25 | BP6: 17 | BQ6: 18 | BR6: 19 | BS6: 20 | BT6: 21 | BU6: 22 | BV6: 23
E7: 18 | G7: 29 | H7: 30 | AI7: 22 | AK7: 27 | AL7: 28 | AM7: 29 | AN7: 30 | AO7: 31 | BN7: 26 | BP7: 24 | BQ7: 25 | BR7: 26 | BS7: 27 | BT7: 28 | BU7: 29 | BV7: 30
A8: ='1e kwartaal'!$A$8 -> 0 | B8: www.easytemplate.nl
E9: April | AI9: Mei | BN9: Juni
A10: ='1e kwartaal'!A10:D11 -> Vakantieplanner | E10: Week 14 | L10: Week 15 | S10: Week 16 | Z10: Week 17 | AG10: Week 18 | AN10: Week 19 | AU10: Week 20 | BB10: Week 21 | BI10: Week 22 | BP10: Week 23 | BW10: Week 24 | CD10: Week 25 | CK10: Wk. 26
E11: M | F11: D | G11: W | H11: D | I11: V | J11: Z | K11: Z | L11: M | M11: D | N11: W | O11: D | P11: V | Q11: Z | R11: Z | S11: M | T11: D | U11: W | V11: D | W11: V | X11: Z | Y11: Z | Z11: M | AA11: D | AB11: W | AC11: D | AD11: V | AE11: Z | AF11: Z | AG11: M | AH11: D | AI11: W | AJ11: D | AK11: V | AL11: Z | AM11: Z | AN11: M | AO11: D | AP11: W | AQ11: D | AR11: V | AS11: Z | AT11: Z | AU11: M | AV11: D | AW11: W | AX11: D | AY11: V | AZ11: Z | BA11: Z | BB11: M | BC11: D | BD11: W | BE11: D | BF11: V | BG11: Z | BH11: Z | BI11: M | BJ11: D | BK11: W | BL11: D | BM11: V | BN11: Z | BO11: Z | BP11: M | BQ11: D | BR11: W | BS11: D | BT11: V | BU11: Z | BV11: Z | BW11: M | BX11: D | BY11: W | BZ11: D | CA11: V | CB11: Z | CC11: Z | CD11: M | CE11: D | CF11: W | CG11: D | CH11: V | CI11: Z | CJ11: Z | CK11: M | CL11: D | CM11: W | CN11: D | CO11: V | CP11: Z | CQ11: Z
A12: Werknemer | B12: nr. | C12: Vestiging | D12: Afdeling | E12: 1 | F12: 2 | G12: 3 | H12: 4 | I12: 5 | J12: 6 | K12: 7 | L12: 8 | M12: 9 | N12: 10 | O12: 11 | P12: 12 | Q12: 13 | R12: 14 | S12: 15 | T12: 16 | U12: 17 | V12: 18 | W12: 19 | X12: 20 | Y12: 21 | Z12: 22 | AA12: 23 | AB12: 24 | AC12: 25 | AD12: 26 | AE12: 27 | AF12: 28 | AG12: 29 | AH12: 30 | AI12: 1 | AJ12: 2 | AK12: 3 | AL12: 4 | AM12: 5 | AN12: 6 | AO12: 7 | AP12: 8 | AQ12: 9 | AR12: 10 | AS12: 11 | AT12: 12 | AU12: 13 | AV12: 14 | AW12: 15 | AX12: 16 | AY12: 17 | AZ12: 18 | BA12: 19 | BB12: 20 | BC12: 21 | BD12: 22 | BE12: 23 | BF12: 24 | BG12: 25 | BH12: 26 | BI12: 27 | BJ12: 28 | BK12: 29 | BL12: 30 | BM12: 31 | BN12: 1 | BO12: 2 | BP12: 3 | BQ12: 4 | BR12: 5 | BS12: 6 | BT12: 7 | BU12: 8 | BV12: 9 | BW12: 10 | BX12: 11 | BY12: 12 | BZ12: 13 | CA12: 14 | CB12: 15 | CC12: 16 | CD12: 17 | CE12: 18 | CF12: 19 | CG12: 20 | CH12: 21 | CI12: 22 | CJ12: 23 | CK12: 24 | CL12: 25 | CM12: 26 | CN12: 27 | CO12: 28 | CP12: 29 | CQ12: 30
B54: Zondag of feestdag
A55: X | B55: Vrije dag

Sheet 3e kwartaal
E1: ="juli "&huidig_jaar -> juli 2013 | AJ1: ="augustus "&huidig_jaar -> augustus 2013 | BO1: ="september "&huidig_jaar -> september 2013
E2: Wk | G2: M | H2: D | I2: W | J2: D | K2: V | L2: Z | M2: Z | AJ2: Wk | AL2: M | AM2: D | AN2: W | AO2: D | AP2: V | AQ2: Z | AR2: Z | BO2: Wk | BQ2: M | BR2: D | BS2: W | BT2: D | BU2: V | BV2: Z | BW2: Z
E3: 27 | G3: 1 | H3: 2 | I3: 3 | J3: 4 | K3: 5 | L3: 6 | M3: 7 | AJ3: 31 | AO3: 1 | AP3: 2 | AQ3: 3 | AR3: 4 | BO3: 35 | BW3: 1
E4: 28 | G4: 8 | H4: 9 | I4: 10 | J4: 11 | K4: 12 | L4: 13 | M4: 14 | AJ4: 32 | AL4: 5 | AM4: 6 | AN4: 7 | AO4: 8 | AP4: 9 | AQ4: 10 | AR4: 11 | BO4: 36 | BQ4: 2 | BR4: 3 | BS4: 4 | BT4: 5 | BU4: 6 | BV4: 7 | BW4: 8
A5: Easy Template | E5: 29 | G5: 15 | H5: 16 | I5: 17 | J5: 18 | K5: 19 | L5: 20 | M5: 21 | AJ5: 33 | AL5: 12 | AM5: 13 | AN5: 14 | AO5: 15 | AP5: 16 | AQ5: 17 | AR5: 18 | BO5: 37 | BQ5: 9 | BR5: 10 | BS5: 11 | BT5: 12 | BU5: 13 | BV5: 14 | BW5: 15
A6: ="Vakantieplanning 3e kwartaal "&huidig_jaar -> Vakantieplanning 3e kwartaal 2013 | E6: 30 | G6: 22 | H6: 23 | I6: 24 | J6: 25 | K6: 26 | L6: 27 | M6: 28 | AJ6: 34 | AL6: 19 | AM6: 20 | AN6: 21 | AO6: 22 | AP6: 23 | AQ6: 24 | AR6: 25 | BO6: 38 | BQ6: 16 | BR6: 17 | BS6: 18 | BT6: 19 | BU6: 20 | BV6: 21 | BW6: 22
E7: 31 | G7: 29 | H7: 30 | I7: 31 | AJ7: 35 | AL7: 26 | AM7: 27 | AN7: 28 | AO7: 29 | AP7: 30 | AQ7: 31 | BO7: 39 | BQ7: 23 | BR7: 24 | BS7: 25 | BT7: 26 | BU7: 27 | BV7: 28 | BW7: 29
A8: ='1e kwartaal'!$A$8 -> 0 | B8: www.easytemplate.nl | BO8: 40 | BQ8: 30
E9: Juli | AJ9: Augustus | BO9: September
A10: ='1e kwartaal'!A10:D11 -> Vakantieplanner | E10: Week 27 | L10: Week 28 | S10: Week 29 | Z10: Week 30 | AG10: Week 31 | AN10: Week 32 | AU10: Week 33 | BB10: Week 34 | BI10: Week 35 | BP10: Week 36 | BW10: Week 37 | CD10: Week 38 | CK10: Week 39 | CR10: 40
E11: M | F11: D | G11: W | H11: D | I11: V | J11: Z | K11: Z | L11: M | M11: D | N11: W | O11: D | P11: V | Q11: Z | R11: Z | S11: M | T11: D | U11: W | V11: D | W11: V | X11: Z | Y11: Z | Z11: M | AA11: D | AB11: W | AC11: D | AD11: V | AE11: Z | AF11: Z | AG11: M | AH11: D | AI11: W | AJ11: D | AK11: V | AL11: Z | AM11: Z | AN11: M | AO11: D | AP11: W | AQ11: D | AR11: V | AS11: Z | AT11: Z | AU11: M | AV11: D | AW11: W | AX11: D | AY11: V | AZ11: Z | BA11: Z | BB11: M | BC11: D | BD11: W | BE11: D | BF11: V | BG11: Z | BH11: Z | BI11: M | BJ11: D | BK11: W | BL11: D | BM11: V | BN11: Z | BO11: Z | BP11: M | BQ11: D | BR11: W | BS11: D | BT11: V | BU11: Z | BV11: Z | BW11: M | BX11: D | BY11: W | BZ11: D | CA11: V | CB11: Z | CC11: Z | CD11: M | CE11: D | CF11: W | CG11: D | CH11: V | CI11: Z | CJ11: Z | CK11: M | CL11: D | CM11: W | CN11: D | CO11: V | CP11: Z | CQ11: Z | CR11: M
A12: Werknemer | B12: nr. | C12: Vestiging | D12: Afdeling | E12: 1 | F12: 2 | G12: 3 | H12: 4 | I12: 5 | J12: 6 | K12: 7 | L12: 8 | M12: 9 | N12: 10 | O12: 11 | P12: 12 | Q12: 13 | R12: 14 | S12: 15 | T12: 16 | U12: 17 | V12: 18 | W12: 19 | X12: 20 | Y12: 21 | Z12: 22 | AA12: 23 | AB12: 24 | AC12: 25 | AD12: 26 | AE12: 27 | AF12: 28 | AG12: 29 | AH12: 30 | AI12: 31 | AJ12: 1 | AK12: 2 | AL12: 3 | AM12: 4 | AN12: 5 | AO12: 6 | AP12: 7 | AQ12: 8 | AR12: 9 | AS12: 10 | AT12: 11 | AU12: 12 | AV12: 13 | AW12: 14 | AX12: 15 | AY12: 16 | AZ12: 17 | BA12: 18 | BB12: 19 | BC12: 20 | BD12: 21 | BE12: 22 | BF12: 23 | BG12: 24 | BH12: 25 | BI12: 26 | BJ12: 27 | BK12: 28 | BL12: 29 | BM12: 30 | BN12: 31 | BO12: 1 | BP12: 2 | BQ12: 3 | BR12: 4 | BS12: 5 | BT12: 6 | BU12: 7 | BV12: 8 | BW12: 9 | BX12: 10 | BY12: 11 | BZ12: 12 | CA12: 13 | CB12: 14 | CC12: 15 | CD12: 16 | CE12: 17 | CF12: 18 | CG12: 19 | CH12: 20 | CI12: 21 | CJ12: 22 | CK12: 23 | CL12: 24 | CM12: 25 | CN12: 26 | CO12: 27 | CP12: 28 | CQ12: 29 | CR12: 30
B54: Zondag of feestdag
A55: X | B55: Vrije dag

Sheet 4e kwartaal
E1: ="oktober "&huidig_jaar -> oktober 2013 | AJ1: ="november "&huidig_jaar -> november 2013 | BN1: ="december "&huidig_jaar -> december 2013
E2: Wk | G2: M | H2: D | I2: W | J2: D | K2: V | L2: Z | M2: Z | AJ2: Wk | AL2: M | AM2: D | AN2: W | AO2: D | AP2: V | AQ2: Z | AR2: Z | BN2: Wk | BP2: M | BQ2: D | BR2: W | BS2: D | BT2: V | BU2: Z | BV2: Z
E3: 40 | H3: 1 | I3: 2 | J3: 3 | K3: 4 | L3: 5 | M3: 6 | AJ3: 44 | AP3: 1 | AQ3: 2 | AR3: 3 | BN3: 48 | BV3: 1 | BY3: 5-12 Sinterklaas
E4: 41 | G4: 7 | H4: 8 | I4: 9 | J4: 10 | K4: 11 | L4: 12 | M4: 13 | AJ4: 45 | AL4: 4 | AM4: 5 | AN4: 6 | AO4: 7 | AP4: 8 | AQ4: 9 | AR4: 10 | BN4: 49 | BP4: 2 | BQ4: 3 | BR4: 4 | BS4: 5 | BT4: 6 | BU4: 7 | BV4: 8 | BY4: 25-12 1e kerstdag
A5: Easy Template | E5: 42 | G5: 14 | H5: 15 | I5: 16 | J5: 17 | K5: 18 | L5: 19 | M5: 20 | AJ5: 46 | AL5: 11 | AM5: 12 | AN5: 13 | AO5: 14 | AP5: 15 | AQ5: 16 | AR5: 17 | BN5: 50 | BP5: 9 | BQ5: 10 | BR5: 11 | BS5: 12 | BT5: 13 | BU5: 14 | BV5: 15 | BY5: 26-12 2e kerstdag
A6: ="Vakantieplanning 4e kwartaal "&huidig_jaar -> Vakantieplanning 4e kwartaal 2013 | E6: 43 | G6: 21 | H6: 22 | I6: 23 | J6: 24 | K6: 25 | L6: 26 | M6: 27 | AJ6: 47 | AL6: 18 | AM6: 19 | AN6: 20 | AO6: 21 | AP6: 22 | AQ6: 23 | AR6: 24 | BN6: 51 | BP6: 16 | BQ6: 17 | BR6: 18 | BS6: 19 | BT6: 20 | BU6: 21 | BV6: 22
E7: 44 | G7: 28 | H7: 29 | I7: 30 | J7: 31 | AJ7: 48 | AL7: 25 | AM7: 26 | AN7: 27 | AO7: 28 | AP7: 29 | AQ7: 30 | BN7: 52 | BP7: 23 | BQ7: 24 | BR7: 25 | BS7: 26 | BT7: 27 | BU7: 28 | BV7: 29
A8: ='1e kwartaal'!$A$8 -> 0 | B8: www.easytemplate.nl | BN8: 1 | BP8: 30 | BQ8: 31
E9: Oktober | AJ9: November | BN9: December
A10: ='1e kwartaal'!A10:D11 -> Vakantieplanner | E10: Week 40 | K10: Week 41 | R10: Week 42 | Y10: Week 43 | AF10: Week 44 | AM10: Week 45 | AT10: Week 46 | BA10: Week 47 | BH10: Week 48 | BO10: Week 49 | BV10: Week 50 | CC10: Week 51 | CJ10: Week 52 | CQ10: 1
E11: D | F11: W | G11: D | H11: V | I11: Z | J11: Z | K11: M | L11: D | M11: W | N11: D | O11: V | P11: Z | Q11: Z | R11: M | S11: D | T11: W | U11: D | V11: V | W11: Z | X11: Z | Y11: M | Z11: D | AA11: W | AB11: D | AC11: V | AD11: Z | AE11: Z | AF11: M | AG11: D | AH11: W | AI11: D | AJ11: V | AK11: Z | AL11: Z | AM11: M | AN11: D | AO11: W | AP11: D | AQ11: V | AR11: Z | AS11: Z | AT11: M | AU11: D | AV11: W | AW11: D | AX11: V | AY11: Z | AZ11: Z | BA11: M | BB11: D | BC11: W | BD11: D | BE11: V | BF11: Z | BG11: Z | BH11: M | BI11: D | BJ11: W | BK11: D | BL11: V | BM11: Z | BN11: Z | BO11: M | BP11: D | BQ11: W | BR11: D | BS11: V | BT11: Z | BU11: Z | BV11: M | BW11: D | BX11: W | BY11: D | BZ11: V | CA11: Z | CB11: Z | CC11: M | CD11: D | CE11: W | CF11: D | CG11: V | CH11: Z | CI11: Z | CJ11: M | CK11: D | CL11: W | CM11: D | CN11: V | CO11: Z | CP11: Z | CQ11: M | CR11: D
A12: Werknemer | B12: nr. | C12: Vestiging | D12: Afdeling | E12: 1 | F12: 2 | G12: 3 | H12: 4 | I12: 5 | J12: 6 | K12: 7 | L12: 8 | M12: 9 | N12: 10 | O12: 11 | P12: 12 | Q12: 13 | R12: 14 | S12: 15 | T12: 16 | U12: 17 | V12: 18 | W12: 19 | X12: 20 | Y12: 21 | Z12: 22 | AA12: 23 | AB12: 24 | AC12: 25 | AD12: 26 | AE12: 27 | AF12: 28 | AG12: 29 | AH12: 30 | AI12: 31 | AJ12: 1 | AK12: 2 | AL12: 3 | AM12: 4 | AN12: 5 | AO12: 6 | AP12: 7 | AQ12: 8 | AR12: 9 | AS12: 10 | AT12: 11 | AU12: 12 | AV12: 13 | AW12: 14 | AX12: 15 | AY12: 16 | AZ12: 17 | BA12: 18 | BB12: 19 | BC12: 20 | BD12: 21 | BE12: 22 | BF12: 23 | BG12: 24 | BH12: 25 | BI12: 26 | BJ12: 27 | BK12: 28 | BL12: 29 | BM12: 30 | BN12: 1 | BO12: 2 | BP12: 3 | BQ12: 4 | BR12: 5 | BS12: 6 | BT12: 7 | BU12: 8 | BV12: 9 | BW12: 10 | BX12: 11 | BY12: 12 | BZ12: 13 | CA12: 14 | CB12: 15 | CC12: 16 | CD12: 17 | CE12: 18 | CF12: 19 | CG12: 20 | CH12: 21 | CI12: 22 | CJ12: 23 | CK12: 24 | CL12: 25 | CM12: 26 | CN12: 27 | CO12: 28 | CP12: 29 | CQ12: 30 | CR12: 31
B54: Zondag of feestdag
A55: X | B55: Vrije dag

Sheet Instellingen
B3: Huidig jaar | C3: 2013
